0.2500000000
0.0000000000
0.0000000000
-0.2500000000
414080.8750000000
337259.6250000000
