0.2500000000
0.0000000000
0.0000000000
-0.2500000000
453547.1250000000
312890.6250000000
