0.2500000000
0.0000000000
0.0000000000
-0.2500000000
443269.8750000000
308732.1250000000
