0.2500000000
0.0000000000
0.0000000000
-0.2500000000
450092.1250000000
310745.1250000000
