0.2500000000
0.0000000000
0.0000000000
-0.2500000000
450180.8750000000
313021.6250000000
