0.2500000000
0.0000000000
0.0000000000
-0.2500000000
446725.6250000000
310876.6250000000
