0.2500000000
0.0000000000
0.0000000000
-0.2500000000
446814.8750000000
313153.1250000000
