0.2500000000
0.0000000000
0.0000000000
-0.2500000000
443359.3750000000
311008.6250000000
