0.2500000000
0.0000000000
0.0000000000
-0.2500000000
443448.6250000000
313285.1250000000
