0.2500000000
0.0000000000
0.0000000000
-0.2500000000
439992.8750000000
311141.1250000000
