0.2500000000
0.0000000000
0.0000000000
-0.2500000000
440082.6250000000
313417.6250000000
