0.2500000000
0.0000000000
0.0000000000
-0.2500000000
436626.6250000000
311274.1250000000
