0.2500000000
0.0000000000
0.0000000000
-0.2500000000
436716.6250000000
313550.6250000000
