0.2500000000
0.0000000000
0.0000000000
-0.2500000000
457001.1250000000
315036.6250000000
