0.2500000000
0.0000000000
0.0000000000
-0.2500000000
457089.3750000000
317313.1250000000
