0.2500000000
0.0000000000
0.0000000000
-0.2500000000
453635.3750000000
315167.1250000000
