0.2500000000
0.0000000000
0.0000000000
-0.2500000000
453723.8750000000
317443.6250000000
