0.2500000000
0.0000000000
0.0000000000
-0.2500000000
463995.1250000000
321606.8750000000
