0.2500000000
0.0000000000
0.0000000000
-0.2500000000
460542.6250000000
319459.8750000000
