0.2500000000
0.0000000000
0.0000000000
-0.2500000000
460630.1250000000
321736.3750000000
