0.2500000000
0.0000000000
0.0000000000
-0.2500000000
457177.3750000000
319589.6250000000
