0.2500000000
0.0000000000
0.0000000000
-0.2500000000
457265.3750000000
321866.1250000000
