0.2500000000
0.0000000000
0.0000000000
-0.2500000000
453812.3750000000
319720.1250000000
