0.2500000000
0.0000000000
0.0000000000
-0.2500000000
453900.6250000000
321996.6250000000
