0.2500000000
0.0000000000
0.0000000000
-0.2500000000
467533.8750000000
326031.1250000000
