0.2500000000
0.0000000000
0.0000000000
-0.2500000000
464082.3750000000
323883.3750000000
