0.2500000000
0.0000000000
0.0000000000
-0.2500000000
464169.8750000000
326160.1250000000
