0.2500000000
0.0000000000
0.0000000000
-0.2500000000
460717.8750000000
324012.8750000000
