0.2500000000
0.0000000000
0.0000000000
-0.2500000000
460805.6250000000
326289.3750000000
