0.2500000000
0.0000000000
0.0000000000
-0.2500000000
457353.6250000000
324142.8750000000
