0.2500000000
0.0000000000
0.0000000000
-0.2500000000
457441.6250000000
326419.3750000000
