0.2500000000
0.0000000000
0.0000000000
-0.2500000000
453989.1250000000
324273.1250000000
