0.2500000000
0.0000000000
0.0000000000
-0.2500000000
454077.6250000000
326549.6250000000
