0.2500000000
0.0000000000
0.0000000000
-0.2500000000
467620.8750000000
328307.6250000000
