0.2500000000
0.0000000000
0.0000000000
-0.2500000000
464257.1250000000
328436.6250000000
