0.2500000000
0.0000000000
0.0000000000
-0.2500000000
464344.6250000000
330713.1250000000
