0.2500000000
0.0000000000
0.0000000000
-0.2500000000
460893.3750000000
328565.8750000000
