0.2500000000
0.0000000000
0.0000000000
-0.2500000000
460981.1250000000
330842.3750000000
