0.2500000000
0.0000000000
0.0000000000
-0.2500000000
457529.6250000000
328695.8750000000
