0.2500000000
0.0000000000
0.0000000000
-0.2500000000
457617.8750000000
330972.3750000000
