0.2500000000
0.0000000000
0.0000000000
-0.2500000000
454166.1250000000
328826.1250000000
