0.2500000000
0.0000000000
0.0000000000
-0.2500000000
454254.3750000000
331102.6250000000
