0.2500000000
0.0000000000
0.0000000000
-0.2500000000
464431.8750000000
332989.6250000000
