0.2500000000
0.0000000000
0.0000000000
-0.2500000000
464519.3750000000
335266.1250000000
