0.2500000000
0.0000000000
0.0000000000
-0.2500000000
461068.8750000000
333118.8750000000
