0.2500000000
0.0000000000
0.0000000000
-0.2500000000
461156.6250000000
335395.3750000000
