0.2500000000
0.0000000000
0.0000000000
-0.2500000000
457705.8750000000
333248.8750000000
