0.2500000000
0.0000000000
0.0000000000
-0.2500000000
457793.8750000000
335525.3750000000
