0.2500000000
0.0000000000
0.0000000000
-0.2500000000
454342.8750000000
333379.1250000000
