0.2500000000
0.0000000000
0.0000000000
-0.2500000000
454431.3750000000
335655.6250000000
